BEGIN:VCALENDAR
VERSION:2.0
PRODID:icalendar-ruby
CALSCALE:GREGORIAN
BEGIN:VEVENT
DTSTAMP:20181221T203536Z
UID:ede0ffed-6921-4dd7-a397-a3a7352ae50c
DTSTART;VALUE=DATE:20091105
DESCRIPTION:Property ID# 159787\, Locatoin: The Sigma Room\, Energy Events 
 Centre\, Rotorua\, Time: 1:00 PM
SUMMARY:Auction for 
END:VEVENT
END:VCALENDAR
