BEGIN:VCALENDAR
VERSION:2.0
PRODID:icalendar-ruby
CALSCALE:GREGORIAN
BEGIN:VEVENT
DTSTAMP:20210120T031108Z
UID:398ae959-430f-4b5f-ac03-96c97ea9c5d4
DTSTART;VALUE=DATE:20190918
DESCRIPTION:Property ID# 460642\, Locatoin: In Rooms - Tremains Tauranga Au
 ction Room\, Time: 1:00PM
SUMMARY:Auction for 
END:VEVENT
END:VCALENDAR
