BEGIN:VCALENDAR
VERSION:2.0
PRODID:icalendar-ruby
CALSCALE:GREGORIAN
BEGIN:VEVENT
DTSTAMP:20210120T030857Z
UID:267c5660-f697-4b49-b66e-eb87122b8584
DTSTART;VALUE=DATE:20191030
DESCRIPTION:Property ID# 461702\, Locatoin: 247 Cameron Road\, Tauranga (un
 less sold prior)\, Time: 1:00PM
SUMMARY:Auction for 
END:VEVENT
END:VCALENDAR
