BEGIN:VCALENDAR
VERSION:2.0
PRODID:icalendar-ruby
CALSCALE:GREGORIAN
BEGIN:VEVENT
DTSTAMP:20210120T031106Z
UID:e9b35407-86f5-4058-a978-53dbe8ebb894
DTSTART;VALUE=DATE:20191113
DESCRIPTION:Property ID# 464058\, Locatoin: In Rooms at Tremains Tauranga \
 , Time: 1:00PM
SUMMARY:Auction for 
END:VEVENT
END:VCALENDAR
