BEGIN:VCALENDAR
VERSION:2.0
PRODID:icalendar-ruby
CALSCALE:GREGORIAN
BEGIN:VEVENT
DTSTAMP:20210120T032053Z
UID:72e2ae73-85d3-4953-a6d2-53922d08e0d5
DTSTART;VALUE=DATE:20200226
DESCRIPTION:Property ID# 471769\, Locatoin: 247 Cameron Road Tauranga\, Tim
 e: 12:00PM
SUMMARY:Auction for 
END:VEVENT
END:VCALENDAR
