BEGIN:VCALENDAR
VERSION:2.0
PRODID:icalendar-ruby
CALSCALE:GREGORIAN
BEGIN:VEVENT
DTSTAMP:20210120T030908Z
UID:2a20cc11-84ce-4d77-8c87-295bb7f57006
DTSTART;VALUE=DATE:20200319
DESCRIPTION:Property ID# 473654\, Locatoin: Harcourts\, 1 Third Avenue\, Ta
 uranga\, Time: 4:00PM
SUMMARY:Auction for 
END:VEVENT
END:VCALENDAR
