BEGIN:VCALENDAR
VERSION:2.0
PRODID:icalendar-ruby
CALSCALE:GREGORIAN
BEGIN:VEVENT
DTSTAMP:20210120T032026Z
UID:6968f75c-97f7-4efa-b4c9-dc921b31e088
DTSTART;VALUE=DATE:20200605
DESCRIPTION:Property ID# 476591\, Locatoin: 247 Cameron Road\, Tauranga\, T
 ime: 11:00AM
SUMMARY:Auction for 
END:VEVENT
END:VCALENDAR
