BEGIN:VCALENDAR
VERSION:2.0
PRODID:icalendar-ruby
CALSCALE:GREGORIAN
BEGIN:VEVENT
DTSTAMP:20210120T031157Z
UID:a32fbbf8-9532-4daa-8a46-37c502fc10c5
DTSTART;VALUE=DATE:20200527
DESCRIPTION:Property ID# 476877\, Time: 1:00PM
SUMMARY:Auction for 
END:VEVENT
END:VCALENDAR
