BEGIN:VCALENDAR
VERSION:2.0
PRODID:icalendar-ruby
CALSCALE:GREGORIAN
BEGIN:VEVENT
DTSTAMP:20210120T031103Z
UID:f4951e8c-191f-40c0-aca8-10aadd9a8be8
DTSTART;VALUE=DATE:20200602
DESCRIPTION:Property ID# 477480\, Locatoin: On Site \, Time: 2:00PM
SUMMARY:Auction for 
END:VEVENT
END:VCALENDAR
