BEGIN:VCALENDAR
VERSION:2.0
PRODID:icalendar-ruby
CALSCALE:GREGORIAN
BEGIN:VEVENT
DTSTAMP:20210120T030943Z
UID:67f9c81a-c253-4c22-9050-6f49bddc4eef
DTSTART;VALUE=DATE:20200618
DESCRIPTION:Property ID# 480784\, Locatoin: EVES Auction Room: 247 Cameron 
 Road\, Tauranga (unless sold prior) \, Time: 1:00PM
SUMMARY:Auction for 
END:VEVENT
END:VCALENDAR
