BEGIN:VCALENDAR
VERSION:2.0
PRODID:icalendar-ruby
CALSCALE:GREGORIAN
BEGIN:VEVENT
DTSTAMP:20210120T030941Z
UID:e4237b37-b2ff-4999-ac66-9c381b17ca97
DTSTART;VALUE=DATE:20200603
DESCRIPTION:Property ID# 481901\, Time: 12:00PM
SUMMARY:Auction for 
END:VEVENT
END:VCALENDAR
