BEGIN:VCALENDAR
VERSION:2.0
PRODID:icalendar-ruby
CALSCALE:GREGORIAN
BEGIN:VEVENT
DTSTAMP:20210120T032135Z
UID:421bdec6-aa2c-44dd-a33c-8b4b310f4a71
DTSTART;VALUE=DATE:20200630
DESCRIPTION:Property ID# 481955\, Locatoin: 247 Cameron Rd\, Tauranga\, Tim
 e: 4:00PM
SUMMARY:Auction for 
END:VEVENT
END:VCALENDAR
