BEGIN:VCALENDAR
VERSION:2.0
PRODID:icalendar-ruby
CALSCALE:GREGORIAN
BEGIN:VEVENT
DTSTAMP:20210120T032024Z
UID:d43fbe1c-bd26-4ef9-8df1-25490cef0bad
DTSTART;VALUE=DATE:20200708
DESCRIPTION:Property ID# 482591\, Locatoin: 247 Cameron Road\, Tauranga\, T
 ime: 1:00PM
SUMMARY:Auction for 
END:VEVENT
END:VCALENDAR
