BEGIN:VCALENDAR
VERSION:2.0
PRODID:icalendar-ruby
CALSCALE:GREGORIAN
BEGIN:VEVENT
DTSTAMP:20260424T120803Z
UID:6b24030b-3126-4e58-8e95-73a5fabf20d7
DTSTART;VALUE=DATE:20200709
DESCRIPTION:Property ID# 482926\, Locatoin: In rooms\, Time: 1:00PM
SUMMARY:Auction for 
END:VEVENT
END:VCALENDAR
