BEGIN:VCALENDAR
VERSION:2.0
PRODID:icalendar-ruby
CALSCALE:GREGORIAN
BEGIN:VEVENT
DTSTAMP:20210120T031124Z
UID:365e6fd5-8ca3-4790-9474-e70650235e4f
DTSTART;VALUE=DATE:20200717
DESCRIPTION:Property ID# 483507\, Time: 4:00PM
SUMMARY:Auction for 
END:VEVENT
END:VCALENDAR
