BEGIN:VCALENDAR
VERSION:2.0
PRODID:icalendar-ruby
CALSCALE:GREGORIAN
BEGIN:VEVENT
DTSTAMP:20210120T030853Z
UID:e9247733-dc17-4e97-af52-b7654a25fdae
DTSTART;VALUE=DATE:20200729
DESCRIPTION:Property ID# 483919\, Locatoin: 247 Cameron Road\, Tauranga (un
 less sold prior)\, Time: 1:00PM
SUMMARY:Auction for 
END:VEVENT
END:VCALENDAR
