BEGIN:VCALENDAR
VERSION:2.0
PRODID:icalendar-ruby
CALSCALE:GREGORIAN
BEGIN:VEVENT
DTSTAMP:20210120T030930Z
UID:faedce73-f1d9-44a5-998a-9b8f9f61358d
DTSTART;VALUE=DATE:20200725
DESCRIPTION:Property ID# 484097\, Locatoin: On site: 6 Stawell Avenue\, Mou
 nt Maunganui (unless sold prior)\, Time: 10:30AM
SUMMARY:Auction for 
END:VEVENT
END:VCALENDAR
