BEGIN:VCALENDAR
VERSION:2.0
PRODID:icalendar-ruby
CALSCALE:GREGORIAN
BEGIN:VEVENT
DTSTAMP:20210120T030939Z
UID:0eeda197-db0f-4892-9ce8-f0384aa29f32
DTSTART;VALUE=DATE:20200723
DESCRIPTION:Property ID# 484447\, Locatoin: EVES Auction Room: 247 Cameron 
 Road\, Tauranga (unless sold prior) \, Time: 12:00PM
SUMMARY:Auction for 
END:VEVENT
END:VCALENDAR
