BEGIN:VCALENDAR
VERSION:2.0
PRODID:icalendar-ruby
CALSCALE:GREGORIAN
BEGIN:VEVENT
DTSTAMP:20210120T031045Z
UID:5c167fab-893f-43ee-9728-616c7696acb3
DTSTART;VALUE=DATE:20200806
DESCRIPTION:Property ID# 484480\, Locatoin: Level 1\, 51 The Strand\, Taura
 nga\, Time: 1:00PM
SUMMARY:Auction for 
END:VEVENT
END:VCALENDAR
