BEGIN:VCALENDAR
VERSION:2.0
PRODID:icalendar-ruby
CALSCALE:GREGORIAN
BEGIN:VEVENT
DTSTAMP:20210120T030956Z
UID:99cae32e-cdb4-46e9-9e57-4e51740f0538
DTSTART;VALUE=DATE:20200805
DESCRIPTION:Property ID# 484882\, Locatoin: 247 Cameron Road\, Tauranga\, T
 ime: 1:00PM
SUMMARY:Auction for 
END:VEVENT
END:VCALENDAR
