BEGIN:VCALENDAR
VERSION:2.0
PRODID:icalendar-ruby
CALSCALE:GREGORIAN
BEGIN:VEVENT
DTSTAMP:20210120T030928Z
UID:ecd1f748-79b9-4b4b-a3dc-5ac58c745adc
DTSTART;VALUE=DATE:20200812
DESCRIPTION:Property ID# 485195\, Locatoin: In Rooms @ 5/9 Domain Road Papa
 moa (unless sold prior)\, Time: 1:00PM
SUMMARY:Auction for 
END:VEVENT
END:VCALENDAR
