BEGIN:VCALENDAR
VERSION:2.0
PRODID:icalendar-ruby
CALSCALE:GREGORIAN
BEGIN:VEVENT
DTSTAMP:20210120T030938Z
UID:e47823a2-da07-418b-a529-8590fe434357
DTSTART;VALUE=DATE:20200820
DESCRIPTION:Property ID# 485623\, Locatoin: EVES Auction Room: 247 Cameron 
 Road\, Tauranga (unless sold prior) \, Time: 12:00PM
SUMMARY:Auction for 
END:VEVENT
END:VCALENDAR
