BEGIN:VCALENDAR
VERSION:2.0
PRODID:icalendar-ruby
CALSCALE:GREGORIAN
BEGIN:VEVENT
DTSTAMP:20210120T032021Z
UID:f9a0e84a-fc52-4319-9b24-0bbdbc31e748
DTSTART;VALUE=DATE:20200819
DESCRIPTION:Property ID# 486183\, Locatoin: Auction Rooms\, 247 Cameron Roa
 d\, Tauranga. Unless sold prior\, Time: 1:00PM
SUMMARY:Auction for 
END:VEVENT
END:VCALENDAR
