BEGIN:VCALENDAR
VERSION:2.0
PRODID:icalendar-ruby
CALSCALE:GREGORIAN
BEGIN:VEVENT
DTSTAMP:20260424T135601Z
UID:40888e0f-0846-40ec-b8bf-d31a9efd7320
DTSTART;VALUE=DATE:20200909
DESCRIPTION:Property ID# 486309\, Time: 1:00PM
SUMMARY:Auction for 
END:VEVENT
END:VCALENDAR
