BEGIN:VCALENDAR
VERSION:2.0
PRODID:icalendar-ruby
CALSCALE:GREGORIAN
BEGIN:VEVENT
DTSTAMP:20210120T031152Z
UID:d59466b8-ae27-4d8e-a5aa-2bed13b8075b
DTSTART;VALUE=DATE:20200910
DESCRIPTION:Property ID# 487137\, Locatoin: Level 1\, 51 The Strand\, Taura
 nga\, 3110\, New Zealand\, Time: 12:00PM
SUMMARY:Auction for 
END:VEVENT
END:VCALENDAR
