BEGIN:VCALENDAR
VERSION:2.0
PRODID:icalendar-ruby
CALSCALE:GREGORIAN
BEGIN:VEVENT
DTSTAMP:20210120T031044Z
UID:fc2b1787-9e99-40e0-8e11-82564e30ba1d
DTSTART;VALUE=DATE:20200903
DESCRIPTION:Property ID# 487499\, Locatoin: Level 1\, 51 The Strand\, Taura
 nga\, Time: 12:00PM
SUMMARY:Auction for 
END:VEVENT
END:VCALENDAR
