BEGIN:VCALENDAR
VERSION:2.0
PRODID:icalendar-ruby
CALSCALE:GREGORIAN
BEGIN:VEVENT
DTSTAMP:20210120T031101Z
UID:01c0735c-fcb1-4cf6-b59f-d38d3600df1c
DTSTART;VALUE=DATE:20201002
DESCRIPTION:Property ID# 488005\, Locatoin: In Rooms at Tremains Tauranga O
 ffice (Corner of 8th Avenue and Cameron Road) \, Time: 4:00PM
SUMMARY:Auction for 
END:VEVENT
END:VCALENDAR
