BEGIN:VCALENDAR
VERSION:2.0
PRODID:icalendar-ruby
CALSCALE:GREGORIAN
BEGIN:VEVENT
DTSTAMP:20260424T133002Z
UID:a9faa1e1-b982-47a1-a26c-2521e5992c0b
DTSTART;VALUE=DATE:20200911
DESCRIPTION:Property ID# 488319\, Locatoin: Harcourts Opotiki Office\, 38 C
 hurch Street\, Opotiki\, 3122.\, Time: 4:00PM
SUMMARY:Auction for 
END:VEVENT
END:VCALENDAR
