BEGIN:VCALENDAR
VERSION:2.0
PRODID:icalendar-ruby
CALSCALE:GREGORIAN
BEGIN:VEVENT
DTSTAMP:20210120T030925Z
UID:72b37337-0fc9-4029-8057-02d27258a367
DTSTART;VALUE=DATE:20200922
DESCRIPTION:Property ID# 489222\, Locatoin: In Rooms @ 5/9 Domain Road\, Pa
 pamoa (unless sold prior)\, Time: 1:00PM
SUMMARY:Auction for 
END:VEVENT
END:VCALENDAR
