BEGIN:VCALENDAR
VERSION:2.0
PRODID:icalendar-ruby
CALSCALE:GREGORIAN
BEGIN:VEVENT
DTSTAMP:20210120T031120Z
UID:b194cebc-33ac-4269-b29d-549d4d3a97d9
DTSTART;VALUE=DATE:20201010
DESCRIPTION:Property ID# 489230\, Locatoin: On Site\, Time: 11:00AM
SUMMARY:Auction for 
END:VEVENT
END:VCALENDAR
