BEGIN:VCALENDAR
VERSION:2.0
PRODID:icalendar-ruby
CALSCALE:GREGORIAN
BEGIN:VEVENT
DTSTAMP:20210120T031034Z
UID:96d1673b-a0a2-4470-b704-9595c2b9f1a7
DTSTART;VALUE=DATE:20201008
DESCRIPTION:Property ID# 489884\, Locatoin: Harcourts Auction Room\, 1 Thir
 d Ave\, Tauranga (unless sold prior)\, Time: 1:00PM
SUMMARY:Auction for 
END:VEVENT
END:VCALENDAR
