BEGIN:VCALENDAR
VERSION:2.0
PRODID:icalendar-ruby
CALSCALE:GREGORIAN
BEGIN:VEVENT
DTSTAMP:20210120T031027Z
UID:963f920d-88ca-4d94-86e5-027568e693e9
DTSTART;VALUE=DATE:20201012
DESCRIPTION:Property ID# 490007\, Locatoin: Harcourts Auction Room\, 1 Thir
 d Ave\, Tauranga (unless sold prior)\, Time: 4:30PM
SUMMARY:Auction for 
END:VEVENT
END:VCALENDAR
