BEGIN:VCALENDAR
VERSION:2.0
PRODID:icalendar-ruby
CALSCALE:GREGORIAN
BEGIN:VEVENT
DTSTAMP:20210120T030948Z
UID:ed01686b-72dc-491c-b884-2b1988bf613c
DTSTART;VALUE=DATE:20201022
DESCRIPTION:Property ID# 490222\, Locatoin: 247 Cameron Road\, Tauranga (un
 less sold prior)\, Time: 1:00PM
SUMMARY:Auction for 
END:VEVENT
END:VCALENDAR
