BEGIN:VCALENDAR
VERSION:2.0
PRODID:icalendar-ruby
CALSCALE:GREGORIAN
BEGIN:VEVENT
DTSTAMP:20210120T031025Z
UID:b473bf04-3724-4a23-b72d-c818d954de4d
DTSTART;VALUE=DATE:20201015
DESCRIPTION:Property ID# 490355\, Locatoin: Harcourts Auction Room\, 1 Thir
 d Ave\, Tauranga (unless sold prior)\, Time: 1:30PM
SUMMARY:Auction for 
END:VEVENT
END:VCALENDAR
