BEGIN:VCALENDAR
VERSION:2.0
PRODID:icalendar-ruby
CALSCALE:GREGORIAN
BEGIN:VEVENT
DTSTAMP:20210120T030850Z
UID:3fbf5974-4c16-47f1-8310-228491fa95cc
DTSTART;VALUE=DATE:20201005
DESCRIPTION:Property ID# 490468\, Locatoin: 247 Cameron Road\, Tauranga (un
 less sold prior)\, Time: 11:00AM
SUMMARY:Auction for 
END:VEVENT
END:VCALENDAR
