BEGIN:VCALENDAR
VERSION:2.0
PRODID:icalendar-ruby
CALSCALE:GREGORIAN
BEGIN:VEVENT
DTSTAMP:20210120T031059Z
UID:a94b07b9-a977-411c-98ed-c528316eaaed
DTSTART;VALUE=DATE:20201009
DESCRIPTION:Property ID# 490542\, Locatoin: On Site \, Time: 5:30PM
SUMMARY:Auction for 
END:VEVENT
END:VCALENDAR
