BEGIN:VCALENDAR
VERSION:2.0
PRODID:icalendar-ruby
CALSCALE:GREGORIAN
BEGIN:VEVENT
DTSTAMP:20210120T030848Z
UID:53c75adc-76a9-495e-972c-62b8c750dba7
DTSTART;VALUE=DATE:20201014
DESCRIPTION:Property ID# 490569\, Locatoin: 247 Cameron Road\, Tauranga (un
 less sold prior)\, Time: 1:00PM
SUMMARY:Auction for 
END:VEVENT
END:VCALENDAR
