BEGIN:VCALENDAR
VERSION:2.0
PRODID:icalendar-ruby
CALSCALE:GREGORIAN
BEGIN:VEVENT
DTSTAMP:20210120T031117Z
UID:f8c7c3cd-afff-4d41-a134-a4ad6e1df5bc
DTSTART;VALUE=DATE:20201028
DESCRIPTION:Property ID# 490649\, Locatoin: On Site\, Time: 12:00PM
SUMMARY:Auction for 
END:VEVENT
END:VCALENDAR
