BEGIN:VCALENDAR
VERSION:2.0
PRODID:icalendar-ruby
CALSCALE:GREGORIAN
BEGIN:VEVENT
DTSTAMP:20210120T031119Z
UID:7cf158ee-9874-4900-8cbb-8a3d7d48d33f
DTSTART;VALUE=DATE:20201020
DESCRIPTION:Property ID# 490823\, Locatoin: On Site\, Time: 11:00AM
SUMMARY:Auction for 
END:VEVENT
END:VCALENDAR
