BEGIN:VCALENDAR
VERSION:2.0
PRODID:icalendar-ruby
CALSCALE:GREGORIAN
BEGIN:VEVENT
DTSTAMP:20210120T030846Z
UID:dbc5a0cb-68fc-4a30-b8f4-32ea6b76ecb5
DTSTART;VALUE=DATE:20201021
DESCRIPTION:Property ID# 490921\, Locatoin: 247 Cameron Road\, Tauranga \, 
 Time: 1:00PM
SUMMARY:Auction for 
END:VEVENT
END:VCALENDAR
