BEGIN:VCALENDAR
VERSION:2.0
PRODID:icalendar-ruby
CALSCALE:GREGORIAN
BEGIN:VEVENT
DTSTAMP:20260424T135510Z
UID:05d68afe-d0b8-41cf-9dcf-1b8189be00fb
DTSTART;VALUE=DATE:20201029
DESCRIPTION:Property ID# 490971\, Locatoin: Level 1\, 51 The Strand\, Taura
 nga\, 3110\, New Zealand\, Time: 1:00PM
SUMMARY:Auction for 
END:VEVENT
END:VCALENDAR
