BEGIN:VCALENDAR
VERSION:2.0
PRODID:icalendar-ruby
CALSCALE:GREGORIAN
BEGIN:VEVENT
DTSTAMP:20210120T032031Z
UID:e65b42dc-e9a5-42a6-ad14-6bdf54557c4e
DTSTART;VALUE=DATE:20201120
DESCRIPTION:Property ID# 491951\, Locatoin: 247 Cameron Road\, Tauranga\, T
 ime: 4:00PM
SUMMARY:Auction for 21 Devonport Road
END:VEVENT
END:VCALENDAR
