BEGIN:VCALENDAR
VERSION:2.0
PRODID:icalendar-ruby
CALSCALE:GREGORIAN
BEGIN:VEVENT
DTSTAMP:20210120T030946Z
UID:5f9c23ac-5cb0-4fcf-a16b-af41e3555169
DTSTART;VALUE=DATE:20201112
DESCRIPTION:Property ID# 492352\, Locatoin: 247 Cameron Road\, Tauranga (un
 less sold prior)\, Time: 1:00PM
SUMMARY:Auction for 
END:VEVENT
END:VCALENDAR
