BEGIN:VCALENDAR
VERSION:2.0
PRODID:icalendar-ruby
CALSCALE:GREGORIAN
BEGIN:VEVENT
DTSTAMP:20210120T030955Z
UID:30b7086b-49d4-490d-b459-91f28d18d027
DTSTART;VALUE=DATE:20201118
DESCRIPTION:Property ID# 492401\, Locatoin: 247 Cameron Road\, Tauranga\, T
 ime: 1:00PM
SUMMARY:Auction for 
END:VEVENT
END:VCALENDAR
