BEGIN:VCALENDAR
VERSION:2.0
PRODID:icalendar-ruby
CALSCALE:GREGORIAN
BEGIN:VEVENT
DTSTAMP:20210120T030921Z
UID:4e3819e6-52cb-4018-a17e-f104a1dd3e21
DTSTART;VALUE=DATE:20201108
DESCRIPTION:Property ID# 492659\, Locatoin: On site @ 26 Mauritius Key\, Pa
 pamoa (unless sold prior)\, Time: 10:00AM
SUMMARY:Auction for 
END:VEVENT
END:VCALENDAR
