BEGIN:VCALENDAR
VERSION:2.0
PRODID:icalendar-ruby
CALSCALE:GREGORIAN
BEGIN:VEVENT
DTSTAMP:20210120T030837Z
UID:da4aa1d9-06ec-4118-ac60-696b2f09edd0
DTSTART;VALUE=DATE:20201111
DESCRIPTION:Property ID# 492683\, Locatoin: 247 Cameron Road\, Tauranga (un
 less sold prior)\, Time: 1:00PM
SUMMARY:Auction for 
END:VEVENT
END:VCALENDAR
