BEGIN:VCALENDAR
VERSION:2.0
PRODID:icalendar-ruby
CALSCALE:GREGORIAN
BEGIN:VEVENT
DTSTAMP:20210120T031054Z
UID:b49db76e-1f95-4b05-bd8b-3aac8d6af8b5
DTSTART;VALUE=DATE:20201125
DESCRIPTION:Property ID# 493216\, Locatoin: On Site \, Time: 3:30PM
SUMMARY:Auction for 
END:VEVENT
END:VCALENDAR
