BEGIN:VCALENDAR
VERSION:2.0
PRODID:icalendar-ruby
CALSCALE:GREGORIAN
BEGIN:VEVENT
DTSTAMP:20260424T135505Z
UID:e9fe31d7-0dd6-4a00-8f86-3f4d29816942
DTSTART;VALUE=DATE:20201119
DESCRIPTION:Property ID# 493224\, Locatoin: In rooms\, Level 1\, 51 The Str
 and Tauranga\, Time: 1:00PM
SUMMARY:Auction for 
END:VEVENT
END:VCALENDAR
