BEGIN:VCALENDAR
VERSION:2.0
PRODID:icalendar-ruby
CALSCALE:GREGORIAN
BEGIN:VEVENT
DTSTAMP:20210120T031143Z
UID:7d0b05aa-d371-42bf-8682-1a2ce93d9610
DTSTART;VALUE=DATE:20201126
DESCRIPTION:Property ID# 493996\, Locatoin: Level 1\, 51 The Strand\, Taura
 nga\, 3110\, New Zealand\, Time: 1:00PM
SUMMARY:Auction for 
END:VEVENT
END:VCALENDAR
