BEGIN:VCALENDAR
VERSION:2.0
PRODID:icalendar-ruby
CALSCALE:GREGORIAN
BEGIN:VEVENT
DTSTAMP:20210120T030945Z
UID:bebf1c78-fe98-44d2-a571-98bee1a979f2
DTSTART;VALUE=DATE:20201203
DESCRIPTION:Property ID# 494156\, Locatoin: 247 Cameron Road\, Tauranga (Un
 less Sold Prior)\, Time: 1:00PM
SUMMARY:Auction for 
END:VEVENT
END:VCALENDAR
